BEGIN:VCALENDAR
VERSION:2.0
PRODID:-//217.160.0.53//NONSGML kigkonsult.se iCalcreator 2.20//
CALSCALE:GREGORIAN
METHOD:PUBLISH
X-WR-TIMEZONE:Europe/Berlin
BEGIN:VEVENT
UID:event133@Freiwillige Feuerwehr Reichertshofen e.V.
DTSTAMP:20260419T131300Z
CATEGORIES:Gemeinde
DESCRIPTION:Fronleichnamsprozession\nKategorie: Gemeinde\nICS-Link: https:/
 /www.ff-reichertshofen.de/index.php?option=com_jem&view=event&id=133:fronl
 eichnamsprozession\n
DTSTART;TZID=Europe/Berlin:20260604T090000
DTEND;TZID=Europe/Berlin:20260604T090000
LOCATION:Kirche\,Reichertshofen\,Germany
SUMMARY:Fronleichnamsprozession
URL:https://www.ff-reichertshofen.de/index.php?option=com_jem&view=event&id
 =133:fronleichnamsprozession
END:VEVENT
BEGIN:VEVENT
UID:event177@Freiwillige Feuerwehr Reichertshofen e.V.
DTSTAMP:20260419T131300Z
CATEGORIES:Gemeinde
DESCRIPTION:Volkstrauertag\nKategorie: Gemeinde\nICS-Link: https://www.ff-r
 eichertshofen.de/index.php?option=com_jem&view=event&id=177:volkstrauertag
 \n
DTSTART;TZID=Europe/Berlin:20261114T173000
DTEND;TZID=Europe/Berlin:20261114T173000
LOCATION:Kirche\,Reichertshofen\,Germany
SUMMARY:Volkstrauertag
URL:https://www.ff-reichertshofen.de/index.php?option=com_jem&view=event&id
 =177:volkstrauertag
END:VEVENT
BEGIN:VEVENT
UID:event185@Freiwillige Feuerwehr Reichertshofen e.V.
DTSTAMP:20260419T131300Z
CATEGORIES:Verein
DESCRIPTION:Jahresabschlussgottesdienst\nKategorie: Verein\nICS-Link: https
 ://www.ff-reichertshofen.de/index.php?option=com_jem&view=event&id=185:jah
 resabschlussgottesdienst\n
DTSTART;TZID=Europe/Berlin:20261231T160000
DTEND;TZID=Europe/Berlin:20261231T160000
LOCATION:Kirche\,Reichertshofen\,Germany
SUMMARY:Jahresabschlussgottesdienst
URL:https://www.ff-reichertshofen.de/index.php?option=com_jem&view=event&id
 =185:jahresabschlussgottesdienst
END:VEVENT
END:VCALENDAR
