BEGIN:VCALENDAR
VERSION:2.0
PRODID:-//217.160.0.53//NONSGML kigkonsult.se iCalcreator 2.20//
CALSCALE:GREGORIAN
METHOD:PUBLISH
X-WR-TIMEZONE:Europe/Berlin
BEGIN:VEVENT
UID:event113@Freiwillige Feuerwehr Reichertshofen e.V.
DTSTAMP:20260421T101140Z
CATEGORIES:Feuerwehr
DESCRIPTION:Übung: Standards Gefahrguteinsätze TRT\nKategorie: Feuerwehr\nI
 CS-Link: https://www.ff-reichertshofen.de/index.php?option=com_jem&view=ev
 ent&id=113:uebung-standards-gefahrguteinsaetze-trt\n
DTSTART;TZID=Europe/Berlin:20260318T193000
DTEND;TZID=Europe/Berlin:20260318T193000
LOCATION:Freiwillige Feuerwehr Reichertshofen e.V.\,Münchner Straße 30\,850
 84 Reichertshofen
SUMMARY:Übung: Standards Gefahrguteinsätze TRT
URL:https://www.ff-reichertshofen.de/index.php?option=com_jem&view=event&id
 =113:uebung-standards-gefahrguteinsaetze-trt
END:VEVENT
END:VCALENDAR
